Workbook

Sheet Harmonogram
A2: Harmonogram zajęć | B2: data | C2: 46142
A5: Nazwa Beneficjenta: | D5: Fundacja SOWELO
A6: Numer projektu: | D6: FEMA.08.01-IP.01-03P8/24
A7: Tytuł projektu | D7: Nowe szanse
A8: Osoba do kontaktu ze strony Beneficjenta (imię, nazwisko, nr telefonu): | D8: Kinga Rzeszut, 883-289-000
A10: Termin zajęć | B10: Godzina zajęć (od - do) | C10: Liczba godzin | D10: Rodzaj wsparcia/zajęcia dodatkowe/wyrównawcze/szkolenie /kurs | E10: Prowadzący zajęcia | F10: Adres, numer sali | G10: Ilość osób w grupie | H10: link w przypadku realizacji zajęć online
A11: 46153 | B11: 14:00-17:00 | C11: 3 | D11: POŚREDNIK | E11: Magdalena Koc-Chudy | F11: Wołomin, ul. Piłsudskiego 14, Sala 3 | G11: nie dotyczy | H11: nie dotyczy
A12: 46153 | B12: 17:00-20:00 | C12: 3 | D12: POŚREDNIK | E12: Magdalena Koc-Chudy | F12: Wołomin, ul. Piłsudskiego 14, Sala 3 | G12: nie dotyczy | H12: nie dotyczy
A13: 46155 | B13: 15:00-17:00 | C13: 2 | D13: POŚREDNIK | E13: Katarzyna Krasowska | F13: Wołomin, ul. Piłsudskiego 14, Sala 3 | G13: nie dotyczy | H13: nie dotyczy
A14: 46155 | B14: 17:00-20:00 | C14: 3 | D14: POŚREDNIK | E14: Katarzyna Krasowska | F14: Wołomin, ul. Piłsudskiego 14, Sala 3 | G14: nie dotyczy | H14: nie dotyczy
A15: 46156 | B15: 17:00-20:00 | C15: 3 | D15: POŚREDNIK | E15: Katarzyna Krasowska | F15: Wołomin, ul. Piłsudskiego 14, Sala 3 | G15: nie dotyczy | H15: nie dotyczy

Sheet Arkusz1
B2: Klaudia Klukowska | C2: =COUNTIF(Harmonogram!#REF!,Arkusz1!B2) -> #REF!
B3: Barbara Górecka | C3: =COUNTIF(Harmonogram!#REF!,Arkusz1!B3) -> #REF! | G3: Magdalena Wolska
B4: Inna Vodzinska | C4: =COUNTIF(Harmonogram!#REF!,Arkusz1!B4) -> #REF! | G4: Magdalena Wolska
B5: Karolina Bartosiak | C5: =COUNTIF(Harmonogram!#REF!,Arkusz1!B5) -> #REF! | G5: Izabela Frąckiewicz
B6: Małgorzata Przybysz | C6: =COUNTIF(Harmonogram!#REF!,Arkusz1!B6) -> #REF! | G6: Małgorzata Moczulska
B7: Patrycja Domańska | C7: =COUNTIF(Harmonogram!#REF!,Arkusz1!B7) -> #REF! | G7: Babicka Mariola
B8: Elżbieta Tworkowska | C8: =COUNTIF(Harmonogram!#REF!,Arkusz1!B8) -> #REF! | G8: Katarzyna Stefanowicz
B9: Drewczyńska Martyna | C9: =COUNTIF(Harmonogram!#REF!,Arkusz1!B9) -> #REF! | G9: Klaudia Klukowska
B10: Elżbieta Chaberska-Kasiak | C10: =COUNTIF(Harmonogram!#REF!,Arkusz1!B10) -> #REF! | G10: Małgorzata Moczulska
G11: Iwona Rajska
G12: Monika Włodarczyk
B13: Małgorzata Moczulska | C13: =COUNTIF(Harmonogram!#REF!,Arkusz1!B13) -> #REF! | G13: Elżbieta Chaberska-Kasiak
B14: Piotr Żyszkiewicz | C14: =COUNTIF(Harmonogram!#REF!,Arkusz1!B14) -> #REF! | G14: Patrycja Domańska
B15: Joanna Jankiewicz | C15: =COUNTIF(Harmonogram!#REF!,Arkusz1!B15) -> #REF! | G15: Izabela Frąckiewicz
B16: Monika Włodarczyk | C16: =COUNTIF(Harmonogram!#REF!,Arkusz1!B16) -> #REF! | G16: Babicka Mariola
B17: Otylia Krakowiak | C17: =COUNTIF(Harmonogram!#REF!,Arkusz1!B17) -> #REF! | G17: Katarzyna Stefanowicz
B18: Zawadka Paulina | C18: =COUNTIF(Harmonogram!#REF!,Arkusz1!B18) -> #REF! | G18: Iwona Rajska
B19: Anna Czyzio | C19: =COUNTIF(Harmonogram!#REF!,Arkusz1!B19) -> #REF! | G19: Anna Czyzio
B20: Elżbieta Góral | C20: =COUNTIF(Harmonogram!#REF!,Arkusz1!B20) -> #REF! | G20: Piotr Żyszkiewicz
B21: Edyta Kunka | C21: =COUNTIF(Harmonogram!#REF!,Arkusz1!B21) -> #REF!
B23: Anna Rytelewska | C23: =COUNTIF(Harmonogram!#REF!,Arkusz1!B23) -> #REF!
B24: Zavishchana Olha | C24: =COUNTIF(Harmonogram!#REF!,Arkusz1!B24) -> #REF!
B25: Bożena Banasiewicz | C25: =COUNTIF(Harmonogram!#REF!,Arkusz1!B25) -> #REF!
B26: Izabela Frąckiewicz | C26: =COUNTIF(Harmonogram!#REF!,Arkusz1!B26) -> #REF!
B27: Magdalena Wolska | C27: =COUNTIF(Harmonogram!#REF!,Arkusz1!B27) -> #REF!
B28: Babicka Mariola | C28: =COUNTIF(Harmonogram!#REF!,Arkusz1!B28) -> #REF!
B29: Marlena Kamińska | C29: =COUNTIF(Harmonogram!#REF!,Arkusz1!B29) -> #REF!
B30: Katarzyna Stefanowicz | C30: =COUNTIF(Harmonogram!#REF!,Arkusz1!B30) -> #REF!
B31: Chudzik Patrycja | C31: =COUNTIF(Harmonogram!#REF!,Arkusz1!B31) -> #REF!
B32: Iwona Rajska | C32: =COUNTIF(Harmonogram!#REF!,Arkusz1!B32) -> #REF!
